BEGIN:VCALENDAR
PRODID:-//github.com/rianjs/ical.net//NONSGML ical.net 4.0//EN
VERSION:2.0
BEGIN:VTIMEZONE
TZID:Eastern Standard Time
X-LIC-LOCATION:America/New_York
BEGIN:STANDARD
DTSTART:20241103T020000
RRULE:FREQ=YEARLY;BYDAY=1SU;BYMONTH=11
TZNAME:EST
TZOFFSETFROM:-0400
TZOFFSETTO:-0500
END:STANDARD
BEGIN:DAYLIGHT
DTSTART:20250309T020000
RRULE:FREQ=YEARLY;BYDAY=2SU;BYMONTH=3
TZNAME:EDT
TZOFFSETFROM:-0500
TZOFFSETTO:-0400
END:DAYLIGHT
END:VTIMEZONE
BEGIN:VEVENT
DESCRIPTION:Join the monthly CatholicsRead Book Club on December 17\, 2026.
DTEND;TZID=Eastern Standard Time:20261217T200000
DTSTAMP:20260421T085751Z
DTSTART;TZID=Eastern Standard Time:20261217T190000
LOCATION:Join the Book Club Meeting
ORGANIZER;CN=Association of Catholic Publishers;SENT-BY="mailto:TBrown@cat
 holicpublishers.org":
SEQUENCE:0
SUMMARY:ACP: CatholicsRead Book Club Meeting - December 2026
UID:40b258ed-8031-4913-b0e2-cbd4e4077732
END:VEVENT
END:VCALENDAR
